BEGIN:VCALENDAR
VERSION:2.0
PRODID:-//https://toddysknoxville.com///NONSGML kigkonsult.se iCalcreator 2.10.15//
METHOD:PUBLISH
BEGIN:VEVENT
UID:20260421T081309EDT-4394Tt0jun@https://toddysknoxville.com/
DTSTAMP:20260421T121309Z
DESCRIPTION: https://toddysknoxville.com/blog-of-our-news-events/our-events
 /event/40-in-store-free-rtd-tasting-long-drink
DTSTART:20260423T190000Z
DTEND:20260423T220000Z
LOCATION:Toddy's Liquor & Wine (4821 Kingston Pike\, Knoxville\, TN 37919\,
  USA)
SUMMARY:In Store Free RTD Tasting - Long Drink
URL:https://toddysknoxville.com/blog-of-our-news-events/our-events/event/40
 -in-store-free-rtd-tasting-long-drink
END:VEVENT
END:VCALENDAR
